BEGIN:VCALENDAR
VERSION:2.0
PRODID:-//SKI JUMPING CANADA - ECPv6.15.20//NONSGML v1.0//EN
CALSCALE:GREGORIAN
METHOD:PUBLISH
X-ORIGINAL-URL:https://skijumpingcanada.com
X-WR-CALDESC:Events for SKI JUMPING CANADA
REFRESH-INTERVAL;VALUE=DURATION:PT1H
X-Robots-Tag:noindex
X-PUBLISHED-TTL:PT1H
BEGIN:VTIMEZONE
TZID:UTC
BEGIN:STANDARD
TZOFFSETFROM:+0000
TZOFFSETTO:+0000
TZNAME:UTC
DTSTART:20190101T000000
END:STANDARD
END:VTIMEZONE
BEGIN:VEVENT
DTSTART;VALUE=DATE:20251125
DTEND;VALUE=DATE:20251130
DTSTAMP:20260423T190331
CREATED:20251110T221715Z
LAST-MODIFIED:20251110T221753Z
UID:8870-1764028800-1764460799@skijumpingcanada.com
SUMMARY:World Cup
DESCRIPTION:
URL:https://skijumpingcanada.com/event/world-cup-2/
LOCATION:Falun\, Sweden
END:VEVENT
BEGIN:VEVENT
DTSTART;VALUE=DATE:20251120
DTEND;VALUE=DATE:20251124
DTSTAMP:20260423T190331
CREATED:20251110T163027Z
LAST-MODIFIED:20251110T222114Z
UID:8861-1763596800-1763942399@skijumpingcanada.com
SUMMARY:World Cup
DESCRIPTION:
URL:https://skijumpingcanada.com/event/world-cup/
LOCATION:Lillehammer\, Norway
END:VEVENT
BEGIN:VEVENT
DTSTART;VALUE=DATE:20210325
DTEND;VALUE=DATE:20210329
DTSTAMP:20260423T190331
CREATED:20210111T165457Z
LAST-MODIFIED:20210111T165457Z
UID:6149-1616630400-1616975999@skijumpingcanada.com
SUMMARY:Planica (SLO) | M | WC | QUA | 3XFH | TF |
DESCRIPTION:
URL:https://skijumpingcanada.com/event/planica-slo-m-wc-qua-3xfh-tf/
END:VEVENT
BEGIN:VEVENT
DTSTART;VALUE=DATE:20210319
DTEND;VALUE=DATE:20210322
DTSTAMP:20260423T190331
CREATED:20210111T164929Z
LAST-MODIFIED:20210111T164929Z
UID:6146-1616112000-1616371199@skijumpingcanada.com
SUMMARY:Vikersund (NOR) | M | RA | WC | 2xFH | TF |
DESCRIPTION:
URL:https://skijumpingcanada.com/event/vikersund-nor-m-ra-wc-2xfh-tf/
END:VEVENT
BEGIN:VEVENT
DTSTART;VALUE=DATE:20210317
DTEND;VALUE=DATE:20210319
DTSTAMP:20260423T190331
CREATED:20210111T163741Z
LAST-MODIFIED:20210111T163750Z
UID:6144-1615939200-1616111999@skijumpingcanada.com
SUMMARY:Trondheim (NOR) |M/W| RA | WC | 4xLH |
DESCRIPTION:
URL:https://skijumpingcanada.com/event/trondheim-nor-m-w-ra-wc-4xlh/
END:VEVENT
BEGIN:VEVENT
DTSTART;VALUE=DATE:20210312
DTEND;VALUE=DATE:20210322
DTSTAMP:20260423T190331
CREATED:20201211T010018Z
LAST-MODIFIED:20210111T161807Z
UID:6102-1615507200-1616371199@skijumpingcanada.com
SUMMARY:FIS SKI FLYING WORLD CHAMPIONSHIPS Planica (SLO) | M | QUA | SFWC | 2xFH |
DESCRIPTION:
URL:https://skijumpingcanada.com/event/fis-ski-flying-world-championships-planica-slo-m-qua-sfwc-2xfh/
END:VEVENT
BEGIN:VEVENT
DTSTART;VALUE=DATE:20210312
DTEND;VALUE=DATE:20210315
DTSTAMP:20260423T190331
CREATED:20210111T163241Z
LAST-MODIFIED:20210111T163241Z
UID:6140-1615507200-1615766399@skijumpingcanada.com
SUMMARY:Oslo (NOR) |M/W| RA | WC | 4xLH | TL
DESCRIPTION:
URL:https://skijumpingcanada.com/event/oslo-nor-m-w-ra-wc-4xlh-tl/
END:VEVENT
BEGIN:VEVENT
DTSTART;VALUE=DATE:20210218
DTEND;VALUE=DATE:20210221
DTSTAMP:20260423T190331
CREATED:20201117T041816Z
LAST-MODIFIED:20201117T041816Z
UID:6025-1613606400-1613865599@skijumpingcanada.com
SUMMARY:Rasnov (ROU) W | WC | QUA | 4XNH | TN
DESCRIPTION:
URL:https://skijumpingcanada.com/event/rasnov-rou-w-wc-qua-4xnh-tn/
END:VEVENT
BEGIN:VEVENT
DTSTART;VALUE=DATE:20210218
DTEND;VALUE=DATE:20210221
DTSTAMP:20260423T190331
CREATED:20201117T041816Z
LAST-MODIFIED:20201117T041816Z
UID:6026-1613606400-1613865599@skijumpingcanada.com
SUMMARY:Rasnov (ROU) W | WC | QUA | 4XNH | TN
DESCRIPTION:
URL:https://skijumpingcanada.com/event/rasnov-rou-w-wc-qua-4xnh-tn/
CATEGORIES:Women's World Cup
END:VEVENT
BEGIN:VEVENT
DTSTART;VALUE=DATE:20210218
DTEND;VALUE=DATE:20210221
DTSTAMP:20260423T190331
CREATED:20201109T191346Z
LAST-MODIFIED:20201110T175112Z
UID:5972-1613606400-1613865599@skijumpingcanada.com
SUMMARY:Rasnov (ROU) W | WC | QUA | 4XNH | TN
DESCRIPTION:
URL:https://skijumpingcanada.com/event/rasnov-rou-w-wc-qua-4xnh-tn/
CATEGORIES:Women's World Cup
END:VEVENT
BEGIN:VEVENT
DTSTART;VALUE=DATE:20210215
DTEND;VALUE=DATE:20210217
DTSTAMP:20260423T190331
CREATED:20210111T163606Z
LAST-MODIFIED:20210111T163606Z
UID:6142-1613347200-1613519999@skijumpingcanada.com
SUMMARY:Lillehammer (NOR) |M/W| RA | WC | 4xLH |
DESCRIPTION:
URL:https://skijumpingcanada.com/event/lillehammer-nor-m-w-ra-wc-4xlh/
END:VEVENT
BEGIN:VEVENT
DTSTART;VALUE=DATE:20210205
DTEND;VALUE=DATE:20210208
DTSTAMP:20260423T190331
CREATED:20210111T162534Z
LAST-MODIFIED:20210111T162534Z
UID:6138-1612483200-1612742399@skijumpingcanada.com
SUMMARY:Klingenthal (GER) | M | WC | QUA | 3XLH |
DESCRIPTION:
URL:https://skijumpingcanada.com/event/klingenthal-ger-m-wc-qua-3xlh/
END:VEVENT
BEGIN:VEVENT
DTSTART;VALUE=DATE:20210205
DTEND;VALUE=DATE:20210208
DTSTAMP:20260423T190331
CREATED:20201109T185335Z
LAST-MODIFIED:20201109T194527Z
UID:5966-1612483200-1612742399@skijumpingcanada.com
SUMMARY:Hinzenbach (AUT) | W | WC | QUA | 3XNH
DESCRIPTION:
URL:https://skijumpingcanada.com/event/hinzenbach-aut-w-wc-qua-3xnh/
END:VEVENT
BEGIN:VEVENT
DTSTART;VALUE=DATE:20210129
DTEND;VALUE=DATE:20210201
DTSTAMP:20260423T190331
CREATED:20201124T172503Z
LAST-MODIFIED:20201124T172503Z
UID:6065-1611878400-1612137599@skijumpingcanada.com
SUMMARY:Willingen (GER) | M | WC | QUA | 3XLH |
DESCRIPTION:
URL:https://skijumpingcanada.com/event/willingen-ger-m-wc-qua-3xlh/
CATEGORIES:Men's World Cup
END:VEVENT
BEGIN:VEVENT
DTSTART;VALUE=DATE:20210129
DTEND;VALUE=DATE:20210201
DTSTAMP:20260423T190331
CREATED:20201117T041930Z
LAST-MODIFIED:20201117T041930Z
UID:6033-1611878400-1612137599@skijumpingcanada.com
SUMMARY:Titisee-Neustadt (GER) | W | WC | QUA | 3xLH
DESCRIPTION:
URL:https://skijumpingcanada.com/event/titisee-neustadt-ger-w-wc-qua-3xlh/
END:VEVENT
BEGIN:VEVENT
DTSTART;VALUE=DATE:20210129
DTEND;VALUE=DATE:20210201
DTSTAMP:20260423T190331
CREATED:20201109T185005Z
LAST-MODIFIED:20201109T194510Z
UID:5964-1611878400-1612137599@skijumpingcanada.com
SUMMARY:Titisee-Neustadt (GER) | W | WC | QUA | 3xLH
DESCRIPTION:
URL:https://skijumpingcanada.com/event/titisee-neustadt-ger-w-wc-qua-3xlh/
END:VEVENT
BEGIN:VEVENT
DTSTART;VALUE=DATE:20210122
DTEND;VALUE=DATE:20210125
DTSTAMP:20260423T190331
CREATED:20210111T161655Z
LAST-MODIFIED:20210111T161655Z
UID:6136-1611273600-1611532799@skijumpingcanada.com
SUMMARY:Lahti (FIN) | M | WC | QUA | 3XLH |
DESCRIPTION:
URL:https://skijumpingcanada.com/event/lahti-fin-m-wc-qua-3xlh/
END:VEVENT
BEGIN:VEVENT
DTSTART;VALUE=DATE:20210122
DTEND;VALUE=DATE:20210125
DTSTAMP:20260423T190331
CREATED:20201109T155705Z
LAST-MODIFIED:20201109T194419Z
UID:5951-1611273600-1611532799@skijumpingcanada.com
SUMMARY:Ljubno (SLO)  | W | QUA | WC  | 2xNH | TN
DESCRIPTION:
URL:https://skijumpingcanada.com/event/ljubno-slo-qua-wc-2xnh-tn/
END:VEVENT
BEGIN:VEVENT
DTSTART;VALUE=DATE:20210115
DTEND;VALUE=DATE:20210118
DTSTAMP:20260423T190331
CREATED:20210111T161149Z
LAST-MODIFIED:20210111T161356Z
UID:6133-1610668800-1610927999@skijumpingcanada.com
SUMMARY:Zakopane (POL) | M | WC | QUA | 2XLH |
DESCRIPTION:
URL:https://skijumpingcanada.com/event/zakopane-pol-m/
END:VEVENT
BEGIN:VEVENT
DTSTART;VALUE=DATE:20210108
DTEND;VALUE=DATE:20210111
DTSTAMP:20260423T190331
CREATED:20210106T180927Z
LAST-MODIFIED:20210106T180927Z
UID:6131-1610064000-1610323199@skijumpingcanada.com
SUMMARY:Titisee-Neustadt (GER) M | WC | QUA | 3xLH |
DESCRIPTION:
URL:https://skijumpingcanada.com/event/titisee-neustadt-ger-m-wc-qua-3xlh/
END:VEVENT
BEGIN:VEVENT
DTSTART;VALUE=DATE:20201204
DTEND;VALUE=DATE:20201207
DTSTAMP:20260423T190331
CREATED:20201117T042043Z
LAST-MODIFIED:20201117T042043Z
UID:6040-1607040000-1607299199@skijumpingcanada.com
SUMMARY:Nizhny Tagil (RUS) | M | WC | QUA | 3XLH |
DESCRIPTION:
URL:https://skijumpingcanada.com/event/nizhny-tagil-rus-m-wc-qua-3xlh/
END:VEVENT
BEGIN:VEVENT
DTSTART;VALUE=DATE:20201204
DTEND;VALUE=DATE:20201207
DTSTAMP:20260423T190331
CREATED:20201110T182635Z
LAST-MODIFIED:20201110T182635Z
UID:5983-1607040000-1607299199@skijumpingcanada.com
SUMMARY:Nizhny Tagil (RUS) | M | WC | QUA | 3XLH |
DESCRIPTION:
URL:https://skijumpingcanada.com/event/nizhny-tagil-rus-m-wc-qua-3xlh/
END:VEVENT
BEGIN:VEVENT
DTSTART;VALUE=DATE:20201127
DTEND;VALUE=DATE:20201130
DTSTAMP:20260423T190331
CREATED:20201117T042104Z
LAST-MODIFIED:20201117T042104Z
UID:6044-1606435200-1606694399@skijumpingcanada.com
SUMMARY:Ruka (FIN) | M | WC | QUA | 3XLH |
DESCRIPTION:
URL:https://skijumpingcanada.com/event/ruka-fin-m-wc-qua-3xlh/
END:VEVENT
BEGIN:VEVENT
DTSTART;VALUE=DATE:20201127
DTEND;VALUE=DATE:20201130
DTSTAMP:20260423T190331
CREATED:20201117T042103Z
LAST-MODIFIED:20201117T042107Z
UID:6043-1606435200-1606694399@skijumpingcanada.com
SUMMARY:Ruka (FIN) | M | WC | QUA | 3XLH |
DESCRIPTION:
URL:https://skijumpingcanada.com/event/ruka-fin-m-wc-qua-3xlh/
END:VEVENT
BEGIN:VEVENT
DTSTART;VALUE=DATE:20201127
DTEND;VALUE=DATE:20201130
DTSTAMP:20260423T190331
CREATED:20201110T182257Z
LAST-MODIFIED:20201110T182257Z
UID:5981-1606435200-1606694399@skijumpingcanada.com
SUMMARY:Ruka (FIN) | M | WC | QUA | 3XLH |
DESCRIPTION:
URL:https://skijumpingcanada.com/event/ruka-fin-m-wc-qua-3xlh/
END:VEVENT
BEGIN:VEVENT
DTSTART;VALUE=DATE:20201120
DTEND;VALUE=DATE:20201123
DTSTAMP:20260423T190331
CREATED:20201109T192711Z
LAST-MODIFIED:20201110T175134Z
UID:5974-1605830400-1606089599@skijumpingcanada.com
SUMMARY:Wisla (POL) | M | WC | QUA | 2XLH | TN
DESCRIPTION:
URL:https://skijumpingcanada.com/event/wisla-pol-wc-qua-2xlh-tn/
CATEGORIES:Men's World Cup
END:VEVENT
END:VCALENDAR